BEGIN:VCALENDAR
VERSION:2.0
PRODID:-//Agence Locale de l&#039;Energie et du Climat Métropole Marseillaise - ECPv6.15.20//NONSGML v1.0//EN
CALSCALE:GREGORIAN
METHOD:PUBLISH
X-WR-CALNAME:Agence Locale de l&#039;Energie et du Climat Métropole Marseillaise
X-ORIGINAL-URL:https://www.alecmetropolemarseillaise.fr
X-WR-CALDESC:Évènements pour Agence Locale de l&#039;Energie et du Climat Métropole Marseillaise
REFRESH-INTERVAL;VALUE=DURATION:PT1H
X-Robots-Tag:noindex
X-PUBLISHED-TTL:PT1H
BEGIN:VTIMEZONE
TZID:Europe/Paris
BEGIN:DAYLIGHT
TZOFFSETFROM:+0100
TZOFFSETTO:+0200
TZNAME:CEST
DTSTART:20240331T010000
END:DAYLIGHT
BEGIN:STANDARD
TZOFFSETFROM:+0200
TZOFFSETTO:+0100
TZNAME:CET
DTSTART:20241027T010000
END:STANDARD
BEGIN:DAYLIGHT
TZOFFSETFROM:+0100
TZOFFSETTO:+0200
TZNAME:CEST
DTSTART:20250330T010000
END:DAYLIGHT
BEGIN:STANDARD
TZOFFSETFROM:+0200
TZOFFSETTO:+0100
TZNAME:CET
DTSTART:20251026T010000
END:STANDARD
BEGIN:DAYLIGHT
TZOFFSETFROM:+0100
TZOFFSETTO:+0200
TZNAME:CEST
DTSTART:20260329T010000
END:DAYLIGHT
BEGIN:STANDARD
TZOFFSETFROM:+0200
TZOFFSETTO:+0100
TZNAME:CET
DTSTART:20261025T010000
END:STANDARD
END:VTIMEZONE
BEGIN:VEVENT
DTSTART;TZID=Europe/Paris:20250327T180000
DTEND;TZID=Europe/Paris:20250327T193000
DTSTAMP:20260421T204153
CREATED:20250327T134729Z
LAST-MODIFIED:20250327T143210Z
UID:5988-1743098400-1743103800@www.alecmetropolemarseillaise.fr
SUMMARY:Les aides financières à la rénovation énergétique en copropriété
DESCRIPTION:Vous souhaitez connaître les dernières actualités relatives à la rénovation énergétique des copropriétés ? Quels dispositifs\, quelles procédures et obligations ? Aides collectives ou individuelles ?Les aides financières dédiées aux travaux de rénovation énergétique des copropriétés sont diverses et peuvent parfois être complexes. \n\n\n\n\nQuels dispositifs d’aides sont disponibles pour soutenir des travaux de rénovation énergétique en copropriété ?\n\n\n\nQuels sont les changements à connaître pour 2025 ? \n\n\n\n\n👉 Venez poser vos questions à nos experts !Deux conseillers France Rénov’ de l’ALEC Métropole Marseillaise et de la Maison Energie Habitat Climat et un conseiller-juriste de l’ADIL des Bouches-du-Rhône vous guident et répondent à toutes vos questions à l’issue de l’atelier.
URL:https://www.alecmetropolemarseillaise.fr/evenement/les-aides-financieres-a-la-renovation-energetique-en-copropriete/
CATEGORIES:Actimmo13,Copropriétés
ATTACH;FMTTYPE=image/png:https://www.alecmetropolemarseillaise.fr/wp-content/uploads/2025/03/Visuel-Webinaire-Aides-financieres-27.03_1.png
END:VEVENT
END:VCALENDAR