BEGIN:VCALENDAR
VERSION:2.0
PRODID:-//Agence Locale de l&#039;Energie et du Climat Métropole Marseillaise - ECPv6.15.20//NONSGML v1.0//EN
CALSCALE:GREGORIAN
METHOD:PUBLISH
X-ORIGINAL-URL:https://www.alecmetropolemarseillaise.fr
X-WR-CALDESC:Évènements pour Agence Locale de l&#039;Energie et du Climat Métropole Marseillaise
REFRESH-INTERVAL;VALUE=DURATION:PT1H
X-Robots-Tag:noindex
X-PUBLISHED-TTL:PT1H
BEGIN:VTIMEZONE
TZID:Europe/Paris
BEGIN:DAYLIGHT
TZOFFSETFROM:+0100
TZOFFSETTO:+0200
TZNAME:CEST
DTSTART:20240331T010000
END:DAYLIGHT
BEGIN:STANDARD
TZOFFSETFROM:+0200
TZOFFSETTO:+0100
TZNAME:CET
DTSTART:20241027T010000
END:STANDARD
BEGIN:DAYLIGHT
TZOFFSETFROM:+0100
TZOFFSETTO:+0200
TZNAME:CEST
DTSTART:20250330T010000
END:DAYLIGHT
BEGIN:STANDARD
TZOFFSETFROM:+0200
TZOFFSETTO:+0100
TZNAME:CET
DTSTART:20251026T010000
END:STANDARD
BEGIN:DAYLIGHT
TZOFFSETFROM:+0100
TZOFFSETTO:+0200
TZNAME:CEST
DTSTART:20260329T010000
END:DAYLIGHT
BEGIN:STANDARD
TZOFFSETFROM:+0200
TZOFFSETTO:+0100
TZNAME:CET
DTSTART:20261025T010000
END:STANDARD
END:VTIMEZONE
BEGIN:VEVENT
DTSTART;TZID=Europe/Paris:20250429T083000
DTEND;TZID=Europe/Paris:20250429T103000
DTSTAMP:20260421T173002
CREATED:20250327T143125Z
LAST-MODIFIED:20250422T065939Z
UID:6026-1745915400-1745922600@www.alecmetropolemarseillaise.fr
SUMMARY:Les Petits Déj' France Rénov' : Tout savoir sur les prêts collectifs. Comment bien préparer vos dossiers ?
DESCRIPTION:Chers syndics professionnels\, l’ALEC de la Métropole Marseillaise et la Maison Énergie Habitat Climat du Pays d’Aix ont le plaisir de vous convier au Petit Déj’ thématique consacré aux Prêts collectifs.🍕🏢📶☕« Les Petits Déj’ France Rénov’ »Mardi 29 avril de 8h30 à 10h30 \n\n\n\nLors de cette matinée d’échanges\, vous pourrez bénéficier d’une présentation et de conseils avisés de notre partenaire Nathalie DUSSAUD de Domofinance\, qui sera présente pour vous fournir des informations techniques et des outils pratiques afin de vous aider à mieux préparer vos dossiers.En s’appuyant sur un exemple type de parcours de demande de prêt collectif\, elle vous exposera les différentes étapes\, les éventuelles difficultés ainsi que les points de vigilance à prendre en compte lors du montage de vos dossiers.  \n\n\n\nAu programme : \n\n\n\n8h30 : Accueil Petit déjeuner \n\n\n\n9h/10h30 : Tout savoir sur les prêts collectifs. Comment bien préparer vos dossiers ?
URL:https://www.alecmetropolemarseillaise.fr/evenement/les-petits-dej-france-renov-tout-savoir-sur-les-prets-collectifs-comment-bien-preparer-vos-dossiers/
LOCATION:ALEC\, 1 Pl. Général de Gaulle\, Marseille\, 13001\, France
CATEGORIES:Actimmo13,Syndics
ATTACH;FMTTYPE=image/png:https://www.alecmetropolemarseillaise.fr/wp-content/uploads/2025/03/250403-Petit-dej-FR-visuel-v3.png
END:VEVENT
END:VCALENDAR